BEGIN:VCALENDAR
METHOD:PUBLISH
VERSION:2.0
PRODID:-//hacksw/handcal//NONSGML v1.0//EN
BEGIN:VEVENT
DTSTAMP:20260428T180000
DTSTART:20260428T180000
DTEND:20260428T183000
SUMMARY:Inspection
LOCATION:11 Arthur Street Strathfield NSW 2135
DESCRIPTION:
UID:5b56ea49-c444-4891-ae70-8836d85b3462@enlivenai.com.au
END:VEVENT
END:VCALENDAR
