BEGIN:VCALENDAR
METHOD:PUBLISH
VERSION:2.0
PRODID:-//hacksw/handcal//NONSGML v1.0//EN
BEGIN:VEVENT
DTSTAMP:20260426T100000
DTSTART:20260426T100000
DTEND:20260426T103000
SUMMARY:Inspection
LOCATION:94 Fairweather Road Cannonvale QLD 4802
DESCRIPTION:
UID:60357e82-8045-49d8-9717-2ee46b16df63@enlivenai.com.au
END:VEVENT
END:VCALENDAR
