BEGIN:VCALENDAR
METHOD:PUBLISH
VERSION:2.0
PRODID:-//hacksw/handcal//NONSGML v1.0//EN
BEGIN:VEVENT
DTSTAMP:20260422T160000
DTSTART:20260422T160000
DTEND:20260422T163000
SUMMARY:Inspection
LOCATION:6 Werona Avenue Abbotsford NSW 2046
DESCRIPTION:
UID:919aea30-a8cc-4338-b52e-9f1c13d975fa@enlivenai.com.au
END:VEVENT
END:VCALENDAR
