BEGIN:VCALENDAR
METHOD:PUBLISH
VERSION:2.0
PRODID:-//hacksw/handcal//NONSGML v1.0//EN
BEGIN:VEVENT
DTSTAMP:20260425T141000
DTSTART:20260425T141000
DTEND:20260425T143000
SUMMARY:Inspection
LOCATION:12/55 Barkly Street St Kilda VIC 3182
DESCRIPTION:
UID:afa3dec9-cda4-4a25-9f5d-b52d4c1af1f2@enlivenai.com.au
END:VEVENT
END:VCALENDAR
