BEGIN:VCALENDAR
METHOD:PUBLISH
VERSION:2.0
PRODID:-//hacksw/handcal//NONSGML v1.0//EN
BEGIN:VEVENT
DTSTAMP:20260430T150000
DTSTART:20260430T150000
DTEND:20260430T153000
SUMMARY:Inspection
LOCATION:9/143-149 Coleman Parade Glen Waverley VIC 3150
DESCRIPTION:
UID:961c6e00-a574-43e2-a959-395c8cc1dda3@enlivenai.com.au
END:VEVENT
END:VCALENDAR
