BEGIN:VCALENDAR
METHOD:PUBLISH
VERSION:2.0
PRODID:-//hacksw/handcal//NONSGML v1.0//EN
BEGIN:VEVENT
DTSTAMP:20260429T150000
DTSTART:20260429T150000
DTEND:20260429T153000
SUMMARY:Inspection
LOCATION:9/143-149 Coleman Parade Glen Waverley VIC 3150
DESCRIPTION:
UID:33ca1649-46b8-43ab-b277-d727b669bf6c@enlivenai.com.au
END:VEVENT
END:VCALENDAR
