BEGIN:VCALENDAR
METHOD:PUBLISH
VERSION:2.0
PRODID:-//hacksw/handcal//NONSGML v1.0//EN
BEGIN:VEVENT
DTSTAMP:20260424T170000
DTSTART:20260424T170000
DTEND:20260424T172000
SUMMARY:Inspection
LOCATION:138/18-20 Knocklayde  Street Ashfield NSW 2131
DESCRIPTION:
UID:c8411576-95c0-471a-90a1-af679da44daf@enlivenai.com.au
END:VEVENT
END:VCALENDAR
