BEGIN:VCALENDAR
METHOD:PUBLISH
VERSION:2.0
PRODID:-//hacksw/handcal//NONSGML v1.0//EN
BEGIN:VEVENT
DTSTAMP:20260425T134500
DTSTART:20260425T134500
DTEND:20260425T140000
SUMMARY:Inspection
LOCATION:604/3-7A Alma Road St Kilda VIC 3182
DESCRIPTION:
UID:b91aed96-64ee-4dba-babd-0096ef4e520a@enlivenai.com.au
END:VEVENT
END:VCALENDAR
