BEGIN:VCALENDAR
METHOD:PUBLISH
VERSION:2.0
PRODID:-//hacksw/handcal//NONSGML v1.0//EN
BEGIN:VEVENT
DTSTAMP:20260424T094500
DTSTART:20260424T094500
DTEND:20260424T100000
SUMMARY:Inspection
LOCATION:210/2 Wentworth Street Manly NSW 2095
DESCRIPTION:
UID:e0d50846-9afd-47cc-b7dc-8c7a185d7363@enlivenai.com.au
END:VEVENT
END:VCALENDAR
