BEGIN:VCALENDAR
METHOD:PUBLISH
VERSION:2.0
PRODID:-//hacksw/handcal//NONSGML v1.0//EN
BEGIN:VEVENT
DTSTAMP:20260421T133000
DTSTART:20260421T133000
DTEND:20260421T134500
SUMMARY:Inspection
LOCATION:1/32 Phoenix Street Lane Cove NSW 2066
DESCRIPTION:
UID:c314dd31-ac11-4896-a62e-5b091dbe8316@enlivenai.com.au
END:VEVENT
END:VCALENDAR
