BEGIN:VCALENDAR
METHOD:PUBLISH
VERSION:2.0
PRODID:-//hacksw/handcal//NONSGML v1.0//EN
BEGIN:VEVENT
DTSTAMP:20260429T164500
DTSTART:20260429T164500
DTEND:20260429T170000
SUMMARY:Inspection
LOCATION:24A Avon Road North Ryde NSW 2113
DESCRIPTION:
UID:994345bc-25ef-4831-87bb-27a77bb224dc@enlivenai.com.au
END:VEVENT
END:VCALENDAR
