BEGIN:VCALENDAR
METHOD:PUBLISH
VERSION:2.0
PRODID:-//hacksw/handcal//NONSGML v1.0//EN
BEGIN:VEVENT
DTSTAMP:20260428T121000
DTSTART:20260428T121000
DTEND:20260428T122500
SUMMARY:Inspection
LOCATION:24 Bourke Street Queens Park NSW 2022
DESCRIPTION:
UID:5af252b4-9224-431b-b00d-4d6db0ecea99@enlivenai.com.au
END:VEVENT
END:VCALENDAR
