BEGIN:VCALENDAR
METHOD:PUBLISH
VERSION:2.0
PRODID:-//hacksw/handcal//NONSGML v1.0//EN
BEGIN:VEVENT
DTSTAMP:20260430T113000
DTSTART:20260430T113000
DTEND:20260430T120000
SUMMARY:Inspection
LOCATION:33 Pine Street Randwick NSW 2031
DESCRIPTION:
UID:4166b047-540f-4301-ba57-0658de31a5a7@enlivenai.com.au
END:VEVENT
END:VCALENDAR
