BEGIN:VCALENDAR
METHOD:PUBLISH
VERSION:2.0
PRODID:-//hacksw/handcal//NONSGML v1.0//EN
BEGIN:VEVENT
DTSTAMP:20260422T110000
DTSTART:20260422T110000
DTEND:20260422T111500
SUMMARY:Inspection
LOCATION:1/78 Riverview Street Riverview NSW 2066
DESCRIPTION:
UID:7a2a8193-0eba-4955-a54f-5f655fb8eaf3@enlivenai.com.au
END:VEVENT
END:VCALENDAR
