BEGIN:VCALENDAR
METHOD:PUBLISH
VERSION:2.0
PRODID:-//hacksw/handcal//NONSGML v1.0//EN
BEGIN:VEVENT
DTSTAMP:20260425T103000
DTSTART:20260425T103000
DTEND:20260425T110000
SUMMARY:Inspection
LOCATION:46A Janet Road Safety Bay WA 6169
DESCRIPTION:
UID:7373c65b-5708-4a96-a487-54c61475aa79@enlivenai.com.au
END:VEVENT
END:VCALENDAR
