BEGIN:VCALENDAR
METHOD:PUBLISH
VERSION:2.0
PRODID:-//hacksw/handcal//NONSGML v1.0//EN
BEGIN:VEVENT
DTSTAMP:20260423T123000
DTSTART:20260423T123000
DTEND:20260423T124500
SUMMARY:Inspection
LOCATION:4/10 Adams Lane Bondi Junction NSW 2022
DESCRIPTION:
UID:fed8cd14-7491-4906-9a36-621770073185@enlivenai.com.au
END:VEVENT
END:VCALENDAR
