BEGIN:VCALENDAR
METHOD:PUBLISH
VERSION:2.0
PRODID:-//hacksw/handcal//NONSGML v1.0//EN
BEGIN:VEVENT
DTSTAMP:20260418T103000
DTSTART:20260418T103000
DTEND:20260418T104500
SUMMARY:Inspection
LOCATION:2/559 Punt Road South Yarra VIC 3141
DESCRIPTION:
UID:56b56139-aca1-4c98-b0e5-84065e1f05f9@enlivenai.com.au
END:VEVENT
END:VCALENDAR
