BEGIN:VCALENDAR
METHOD:PUBLISH
VERSION:2.0
PRODID:-//hacksw/handcal//NONSGML v1.0//EN
BEGIN:VEVENT
DTSTAMP:20260422T111500
DTSTART:20260422T111500
DTEND:20260422T113000
SUMMARY:Inspection
LOCATION:12 Hutcheson Avenue Rankin Park NSW 2287
DESCRIPTION:
UID:5850a80d-c8e0-4472-a77a-a9924bc3b8c7@enlivenai.com.au
END:VEVENT
END:VCALENDAR
