BEGIN:VCALENDAR
METHOD:PUBLISH
VERSION:2.0
PRODID:-//hacksw/handcal//NONSGML v1.0//EN
BEGIN:VEVENT
DTSTAMP:20260425T133500
DTSTART:20260425T133500
DTEND:20260425T140000
SUMMARY:Inspection
LOCATION:73 Laura Street Aspendale VIC 3195
DESCRIPTION:
UID:7d151c59-7569-489e-89d2-cc70ce2ba6a5@enlivenai.com.au
END:VEVENT
END:VCALENDAR
