BEGIN:VCALENDAR
METHOD:PUBLISH
VERSION:2.0
PRODID:-//hacksw/handcal//NONSGML v1.0//EN
BEGIN:VEVENT
DTSTAMP:20260509T091500
DTSTART:20260509T091500
DTEND:20260509T094500
SUMMARY:Inspection
LOCATION:1402/156-160 Goulburn Street Surry Hills NSW 2010
DESCRIPTION:
UID:76e773eb-b195-4e23-849c-e69107a09cfc@enlivenai.com.au
END:VEVENT
END:VCALENDAR
