BEGIN:VCALENDAR
METHOD:PUBLISH
VERSION:2.0
PRODID:-//hacksw/handcal//NONSGML v1.0//EN
BEGIN:VEVENT
DTSTAMP:20260425T091500
DTSTART:20260425T091500
DTEND:20260425T094500
SUMMARY:Inspection
LOCATION:1402/156-160 Goulburn Street Surry Hills NSW 2010
DESCRIPTION:
UID:0ceecf25-fe3b-4282-8f32-3a1fbdba38c7@enlivenai.com.au
END:VEVENT
END:VCALENDAR
