BEGIN:VCALENDAR
METHOD:PUBLISH
VERSION:2.0
PRODID:-//hacksw/handcal//NONSGML v1.0//EN
BEGIN:VEVENT
DTSTAMP:20260424T141000
DTSTART:20260424T141000
DTEND:20260424T142500
SUMMARY:Inspection
LOCATION:4/50 Fewster Road Hampton East VIC 3188
DESCRIPTION:
UID:89cd8cba-680c-4538-8571-e7ee01fdd9b1@enlivenai.com.au
END:VEVENT
END:VCALENDAR
