BEGIN:VCALENDAR
METHOD:PUBLISH
VERSION:2.0
PRODID:-//hacksw/handcal//NONSGML v1.0//EN
BEGIN:VEVENT
DTSTAMP:20260421T140000
DTSTART:20260421T140000
DTEND:20260421T141500
SUMMARY:Inspection
LOCATION:304/47 Mindarie Street Lane Cove NSW 2066
DESCRIPTION:
UID:ee11f78b-3677-4f72-a87f-6f23d7036eec@enlivenai.com.au
END:VEVENT
END:VCALENDAR
