BEGIN:VCALENDAR
METHOD:PUBLISH
VERSION:2.0
PRODID:-//hacksw/handcal//NONSGML v1.0//EN
BEGIN:VEVENT
DTSTAMP:20260429T123000
DTSTART:20260429T123000
DTEND:20260429T130000
SUMMARY:Inspection
LOCATION:5/17-19 Suttor Road Moss Vale NSW 2577
DESCRIPTION:
UID:8825f469-f3f9-4e19-a703-6093c1a94e33@enlivenai.com.au
END:VEVENT
END:VCALENDAR
