BEGIN:VCALENDAR
METHOD:PUBLISH
VERSION:2.0
PRODID:-//hacksw/handcal//NONSGML v1.0//EN
BEGIN:VEVENT
DTSTAMP:20260514T110000
DTSTART:20260514T110000
DTEND:20260514T113000
SUMMARY:Inspection
LOCATION:1/22 Connell Street Hawthorn VIC 3122
DESCRIPTION:
UID:db5f11a1-44a8-4677-9ffa-030808e1be91@enlivenai.com.au
END:VEVENT
END:VCALENDAR
