BEGIN:VCALENDAR
METHOD:PUBLISH
VERSION:2.0
PRODID:-//hacksw/handcal//NONSGML v1.0//EN
BEGIN:VEVENT
DTSTAMP:20260507T133000
DTSTART:20260507T133000
DTEND:20260507T140000
SUMMARY:Inspection
LOCATION:1/22 Connell Street Hawthorn VIC 3122
DESCRIPTION:
UID:a03a61f7-1283-4308-90d6-83ef8de5e68c@enlivenai.com.au
END:VEVENT
END:VCALENDAR
