BEGIN:VCALENDAR
METHOD:PUBLISH
VERSION:2.0
PRODID:-//hacksw/handcal//NONSGML v1.0//EN
BEGIN:VEVENT
DTSTAMP:20260426T114500
DTSTART:20260426T114500
DTEND:20260426T121500
SUMMARY:Inspection
LOCATION:30 Harbourside  Esplanade Safety Beach VIC 3936
DESCRIPTION:
UID:23a57bef-cfdc-4922-abca-47908efa8aad@enlivenai.com.au
END:VEVENT
END:VCALENDAR
