BEGIN:VCALENDAR
METHOD:PUBLISH
VERSION:2.0
PRODID:-//hacksw/handcal//NONSGML v1.0//EN
BEGIN:VEVENT
DTSTAMP:20260502T131500
DTSTART:20260502T131500
DTEND:20260502T134500
SUMMARY:Inspection
LOCATION:3/38 Northcote Road Armadale VIC 3143
DESCRIPTION:
UID:75307b83-6d6a-4de7-8004-502252b920b5@enlivenai.com.au
END:VEVENT
END:VCALENDAR
