BEGIN:VCALENDAR
METHOD:PUBLISH
VERSION:2.0
PRODID:-//hacksw/handcal//NONSGML v1.0//EN
BEGIN:VEVENT
DTSTAMP:20260423T161500
DTSTART:20260423T161500
DTEND:20260423T163000
SUMMARY:Inspection
LOCATION:2 Maddy Way Stanhope Gardens NSW 2768
DESCRIPTION:
UID:2b1c3418-2936-45b9-b272-fb3b3bde5129@enlivenai.com.au
END:VEVENT
END:VCALENDAR
