BEGIN:VCALENDAR
METHOD:PUBLISH
VERSION:2.0
PRODID:-//hacksw/handcal//NONSGML v1.0//EN
BEGIN:VEVENT
DTSTAMP:20260502T100000
DTSTART:20260502T100000
DTEND:20260502T103000
SUMMARY:Inspection
LOCATION:99A Wycombe Road Neutral Bay NSW 2089
DESCRIPTION:
UID:80181451-0026-4166-8bad-fb6f4edca341@enlivenai.com.au
END:VEVENT
END:VCALENDAR
