BEGIN:VCALENDAR
METHOD:PUBLISH
VERSION:2.0
PRODID:-//hacksw/handcal//NONSGML v1.0//EN
BEGIN:VEVENT
DTSTAMP:20260429T170000
DTSTART:20260429T170000
DTEND:20260429T173000
SUMMARY:Inspection
LOCATION:5/6 Felton Road Carlingford NSW 2118
DESCRIPTION:
UID:91e28d1d-09dd-4ffe-8da7-347debb3c8aa@enlivenai.com.au
END:VEVENT
END:VCALENDAR
