BEGIN:VCALENDAR
METHOD:PUBLISH
VERSION:2.0
PRODID:-//hacksw/handcal//NONSGML v1.0//EN
BEGIN:VEVENT
DTSTAMP:20260422T171000
DTSTART:20260422T171000
DTEND:20260422T173000
SUMMARY:Inspection
LOCATION:2/189 Fitzgerald Avenue Maroubra NSW 2035
DESCRIPTION:
UID:15fcb509-c0e0-4fc6-8468-172afd69e3a6@enlivenai.com.au
END:VEVENT
END:VCALENDAR
