BEGIN:VCALENDAR
METHOD:PUBLISH
VERSION:2.0
PRODID:-//hacksw/handcal//NONSGML v1.0//EN
BEGIN:VEVENT
DTSTAMP:20260425T143000
DTSTART:20260425T143000
DTEND:20260425T150000
SUMMARY:Inspection
LOCATION:9/42-44 Carnarvon Street Silverwater NSW 2128
DESCRIPTION:
UID:e8712c28-409e-428c-85c6-3fb288deb402@enlivenai.com.au
END:VEVENT
END:VCALENDAR
