BEGIN:VCALENDAR
METHOD:PUBLISH
VERSION:2.0
PRODID:-//hacksw/handcal//NONSGML v1.0//EN
BEGIN:VEVENT
DTSTAMP:20260424T153000
DTSTART:20260424T153000
DTEND:20260424T154500
SUMMARY:Inspection
LOCATION:6/31 York Street St Kilda West VIC 3182
DESCRIPTION:
UID:69cbae6f-6d13-43d5-8999-6e6b2aef0cb5@enlivenai.com.au
END:VEVENT
END:VCALENDAR
