BEGIN:VCALENDAR
METHOD:PUBLISH
VERSION:2.0
PRODID:-//hacksw/handcal//NONSGML v1.0//EN
BEGIN:VEVENT
DTSTAMP:20260425T140000
DTSTART:20260425T140000
DTEND:20260425T143000
SUMMARY:Inspection
LOCATION:15 Voyager Close Wannanup WA 6210
DESCRIPTION:
UID:f9dacec0-644a-4baf-8bf4-8b3677472062@enlivenai.com.au
END:VEVENT
END:VCALENDAR
