BEGIN:VCALENDAR
METHOD:PUBLISH
VERSION:2.0
PRODID:-//hacksw/handcal//NONSGML v1.0//EN
BEGIN:VEVENT
DTSTAMP:20260427T171500
DTSTART:20260427T171500
DTEND:20260427T173000
SUMMARY:Inspection
LOCATION:4/40 Burnaby Terrace Gordon Park QLD 4031
DESCRIPTION:
UID:c526306e-33aa-4589-a024-8802447ed091@enlivenai.com.au
END:VEVENT
END:VCALENDAR
