BEGIN:VCALENDAR
METHOD:PUBLISH
VERSION:2.0
PRODID:-//hacksw/handcal//NONSGML v1.0//EN
BEGIN:VEVENT
DTSTAMP:20260425T151500
DTSTART:20260425T151500
DTEND:20260425T153000
SUMMARY:Inspection
LOCATION:22/21 Moore Street Moonee Ponds VIC 3039
DESCRIPTION:
UID:4ecbdd47-dd8f-4035-b19b-d20dbd244656@enlivenai.com.au
END:VEVENT
END:VCALENDAR
