BEGIN:VCALENDAR
METHOD:PUBLISH
VERSION:2.0
PRODID:-//hacksw/handcal//NONSGML v1.0//EN
BEGIN:VEVENT
DTSTAMP:20260428T120000
DTSTART:20260428T120000
DTEND:20260428T121500
SUMMARY:Inspection
LOCATION:27/166 Toorak Road West South Yarra VIC 3141
DESCRIPTION:
UID:4cebe6a2-2647-435e-9a23-ebf04fd3ebb7@enlivenai.com.au
END:VEVENT
END:VCALENDAR
