BEGIN:VCALENDAR
METHOD:PUBLISH
VERSION:2.0
PRODID:-//hacksw/handcal//NONSGML v1.0//EN
BEGIN:VEVENT
DTSTAMP:20260424T132000
DTSTART:20260424T132000
DTEND:20260424T134000
SUMMARY:Inspection
LOCATION:56 William Street Redfern NSW 2016
DESCRIPTION:
UID:de3831dc-f18f-474c-80dd-a3be3f598f28@enlivenai.com.au
END:VEVENT
END:VCALENDAR
