BEGIN:VCALENDAR
METHOD:PUBLISH
VERSION:2.0
PRODID:-//hacksw/handcal//NONSGML v1.0//EN
BEGIN:VEVENT
DTSTAMP:20260425T142000
DTSTART:20260425T142000
DTEND:20260425T144000
SUMMARY:Inspection
LOCATION:14 Magara Walk Tarneit VIC 3029
DESCRIPTION:
UID:b0767a78-5fe3-458d-8df2-cccf75a9fba2@enlivenai.com.au
END:VEVENT
END:VCALENDAR
