BEGIN:VCALENDAR
METHOD:PUBLISH
VERSION:2.0
PRODID:-//hacksw/handcal//NONSGML v1.0//EN
BEGIN:VEVENT
DTSTAMP:20260506T124500
DTSTART:20260506T124500
DTEND:20260506T131500
SUMMARY:Inspection
LOCATION:15/42-44 Gibbens Street Camperdown NSW 2050
DESCRIPTION:
UID:275f8ad8-d55d-4317-8c23-f52fb75394f4@enlivenai.com.au
END:VEVENT
END:VCALENDAR
