BEGIN:VCALENDAR
METHOD:PUBLISH
VERSION:2.0
PRODID:-//hacksw/handcal//NONSGML v1.0//EN
BEGIN:VEVENT
DTSTAMP:20260502T104500
DTSTART:20260502T104500
DTEND:20260502T111500
SUMMARY:Inspection
LOCATION:15/42-44 Gibbens Street Camperdown NSW 2050
DESCRIPTION:
UID:ff045cd3-88eb-46d2-bc69-9a7932677534@enlivenai.com.au
END:VEVENT
END:VCALENDAR
