BEGIN:VCALENDAR
METHOD:PUBLISH
VERSION:2.0
PRODID:-//hacksw/handcal//NONSGML v1.0//EN
BEGIN:VEVENT
DTSTAMP:20260424T182000
DTSTART:20260424T182000
DTEND:20260424T184000
SUMMARY:Inspection
LOCATION:2/84-86 Burwood Road Croydon Park NSW 2133
DESCRIPTION:
UID:cbbfec3a-7e90-406d-a627-d911ddfcad92@enlivenai.com.au
END:VEVENT
END:VCALENDAR
