BEGIN:VCALENDAR
METHOD:PUBLISH
VERSION:2.0
PRODID:-//hacksw/handcal//NONSGML v1.0//EN
BEGIN:VEVENT
DTSTAMP:20260423T124500
DTSTART:20260423T124500
DTEND:20260423T131500
SUMMARY:Inspection
LOCATION:204/800 Chapel Street South Yarra VIC 3141
DESCRIPTION:
UID:ccd64f24-488f-4ca3-892f-227a7129b063@enlivenai.com.au
END:VEVENT
END:VCALENDAR
