BEGIN:VCALENDAR
METHOD:PUBLISH
VERSION:2.0
PRODID:-//hacksw/handcal//NONSGML v1.0//EN
BEGIN:VEVENT
DTSTAMP:20260422T165000
DTSTART:20260422T165000
DTEND:20260422T170000
SUMMARY:Inspection
LOCATION:97 Rosebud Parade Rosebud VIC 3939
DESCRIPTION:
UID:3a88b28f-94f9-4649-bf54-3f2e56a74fa7@enlivenai.com.au
END:VEVENT
END:VCALENDAR
