BEGIN:VCALENDAR
METHOD:PUBLISH
VERSION:2.0
PRODID:-//hacksw/handcal//NONSGML v1.0//EN
BEGIN:VEVENT
DTSTAMP:20260423T120000
DTSTART:20260423T120000
DTEND:20260423T121500
SUMMARY:Inspection
LOCATION:28 Epping Drive Frenchs Forest NSW 2086
DESCRIPTION:
UID:c8c1bc43-19f9-4fa4-8fa2-e4d61d7d0d28@enlivenai.com.au
END:VEVENT
END:VCALENDAR
