BEGIN:VCALENDAR
METHOD:PUBLISH
VERSION:2.0
PRODID:-//hacksw/handcal//NONSGML v1.0//EN
BEGIN:VEVENT
DTSTAMP:20260506T110000
DTSTART:20260506T110000
DTEND:20260506T113000
SUMMARY:Inspection
LOCATION:7/6 Avona Avenue Glebe NSW 2037
DESCRIPTION:
UID:03fddc20-ada1-4bed-830a-08d8271c1988@enlivenai.com.au
END:VEVENT
END:VCALENDAR
