BEGIN:VCALENDAR
METHOD:PUBLISH
VERSION:2.0
PRODID:-//hacksw/handcal//NONSGML v1.0//EN
BEGIN:VEVENT
DTSTAMP:20260423T171500
DTSTART:20260423T171500
DTEND:20260423T173000
SUMMARY:Inspection
LOCATION:593 Toorak Road Toorak VIC 3142
DESCRIPTION:
UID:2a00120e-a34d-45e0-8bbf-70e15dca37c6@enlivenai.com.au
END:VEVENT
END:VCALENDAR
