BEGIN:VCALENDAR
METHOD:PUBLISH
VERSION:2.0
PRODID:-//hacksw/handcal//NONSGML v1.0//EN
BEGIN:VEVENT
DTSTAMP:20260505T164500
DTSTART:20260505T164500
DTEND:20260505T170000
SUMMARY:Inspection
LOCATION:4a Margaret Street Jan Juc VIC 3228
DESCRIPTION:
UID:8ade29c2-fbfd-4196-a634-e28f142514e0@enlivenai.com.au
END:VEVENT
END:VCALENDAR
