BEGIN:VCALENDAR
METHOD:PUBLISH
VERSION:2.0
PRODID:-//hacksw/handcal//NONSGML v1.0//EN
BEGIN:VEVENT
DTSTAMP:20260424T100000
DTSTART:20260424T100000
DTEND:20260424T103000
SUMMARY:Inspection
LOCATION:38/62 North Steyne Manly NSW 2095
DESCRIPTION:
UID:e0d3bac1-f57f-44d4-96d3-cc5c9749e709@enlivenai.com.au
END:VEVENT
END:VCALENDAR
